BEGIN:VCALENDAR
VERSION:2.0
PRODID:-//RCAP Solutions - ECPv6.15.20//NONSGML v1.0//EN
CALSCALE:GREGORIAN
METHOD:PUBLISH
X-ORIGINAL-URL:https://www.rcapsolutions.org
X-WR-CALDESC:Events for RCAP Solutions
REFRESH-INTERVAL;VALUE=DURATION:PT1H
X-Robots-Tag:noindex
X-PUBLISHED-TTL:PT1H
BEGIN:VTIMEZONE
TZID:America/New_York
BEGIN:DAYLIGHT
TZOFFSETFROM:-0500
TZOFFSETTO:-0400
TZNAME:EDT
DTSTART:20220313T070000
END:DAYLIGHT
BEGIN:STANDARD
TZOFFSETFROM:-0400
TZOFFSETTO:-0500
TZNAME:EST
DTSTART:20221106T060000
END:STANDARD
BEGIN:DAYLIGHT
TZOFFSETFROM:-0500
TZOFFSETTO:-0400
TZNAME:EDT
DTSTART:20230312T070000
END:DAYLIGHT
BEGIN:STANDARD
TZOFFSETFROM:-0400
TZOFFSETTO:-0500
TZNAME:EST
DTSTART:20231105T060000
END:STANDARD
BEGIN:DAYLIGHT
TZOFFSETFROM:-0500
TZOFFSETTO:-0400
TZNAME:EDT
DTSTART:20240310T070000
END:DAYLIGHT
BEGIN:STANDARD
TZOFFSETFROM:-0400
TZOFFSETTO:-0500
TZNAME:EST
DTSTART:20241103T060000
END:STANDARD
BEGIN:DAYLIGHT
TZOFFSETFROM:-0500
TZOFFSETTO:-0400
TZNAME:EDT
DTSTART:20250309T070000
END:DAYLIGHT
BEGIN:STANDARD
TZOFFSETFROM:-0400
TZOFFSETTO:-0500
TZNAME:EST
DTSTART:20251102T060000
END:STANDARD
BEGIN:DAYLIGHT
TZOFFSETFROM:-0500
TZOFFSETTO:-0400
TZNAME:EDT
DTSTART:20260308T070000
END:DAYLIGHT
BEGIN:STANDARD
TZOFFSETFROM:-0400
TZOFFSETTO:-0500
TZNAME:EST
DTSTART:20261101T060000
END:STANDARD
END:VTIMEZONE
BEGIN:VEVENT
DTSTART;TZID=America/New_York:20251105T090000
DTEND;TZID=America/New_York:20251105T133000
DTSTAMP:20260425T182933
CREATED:20251002T191116Z
LAST-MODIFIED:20251002T191257Z
UID:10001499-1762333200-1762349400@www.rcapsolutions.org
SUMMARY:💧 PFAS in Drinking Water: From Contamination to Compliance – In-Person (Biddeford\, ME)
DESCRIPTION:REGISTER HERE\n\nThis training provides a comprehensive overview of per- and polyfluoroalkyl substances (PFAS) and their impact on drinking water systems. Participants will learn about PFAS sources and release pathways\, best practices for sampling and analysis\, and current treatment technologies. The session will also cover key federal and state regulatory updates\, available funding opportunities\, and practical steps for moving from detection to compliance. Designed for water utility professionals\, regulators\, and environmental practitioners\, this training will equip attendees with the knowledge and resources to effectively manage PFAS challenges in their communities.
URL:https://www.rcapsolutions.org/event/pfas-in-drinking-water-from-contamination-to-compliance-in-person-biddeford-me/
LOCATION:Saco River Drinking Water Resource Center\, 16 Waterworks Drive\, Biddeford\, ME\, 04005\, United States
CATEGORIES:Community & Environmental,Events
ATTACH;FMTTYPE=image/png:https://www.rcapsolutions.org/wp-content/uploads/Upcoming-Workshop-Graphic-Background.png
END:VEVENT
BEGIN:VEVENT
DTSTART;TZID=America/New_York:20251008T090000
DTEND;TZID=America/New_York:20251008T133000
DTSTAMP:20260425T182933
CREATED:20250909T200202Z
LAST-MODIFIED:20250909T200202Z
UID:10001492-1759914000-1759930200@www.rcapsolutions.org
SUMMARY:💧 Disaster Planning and Preparation – In-Person (Biddeford\, ME)
DESCRIPTION:REGISTER HERE\n\nDisaster Planning and Preparation is a training that has been designed to provide systems of all sizes with an understanding of the importance of disaster planning and preparation for their water and wastewater systems. The training will include a description of what a disaster is\, how it can affect systems\, and steps that can be taken to prepare for potential disasters\, including an overview of Risk and Resiliency Assessments and Emergency Response Plans.
URL:https://www.rcapsolutions.org/event/disaster-planning-and-preparation-in-person-biddeford-me/
LOCATION:Saco River Drinking Water Resource Center\, 16 Waterworks Drive\, Biddeford\, ME\, 04005\, United States
CATEGORIES:Community & Environmental,Events
ATTACH;FMTTYPE=image/png:https://www.rcapsolutions.org/wp-content/uploads/Upcoming-Workshop-Graphic-Background.png
END:VEVENT
BEGIN:VEVENT
DTSTART;TZID=America/New_York:20250610T090000
DTEND;TZID=America/New_York:20250610T133000
DTSTAMP:20260425T182933
CREATED:20250502T161243Z
LAST-MODIFIED:20250503T130317Z
UID:10001445-1749546000-1749562200@www.rcapsolutions.org
SUMMARY:💧 In-Person Training: Wastewater Pumps\, Controls\, and Wastewater Safety (ME) – 06/10/2025
DESCRIPTION:REGISTER HERE\n \nThis in-person class will cover the basics of control systems. We will discuss how operators can utilize a variety of control systems\, from floats to radar and ultrasonic. We will go over how to optimize a station/system by using certain controllers and instruments for certain situations. We will also touch on pumps and how they are affected by different types of control systems. This class will also feature a small section touching on operations safety\, including lockout tagout procedures and chemical safety.
URL:https://www.rcapsolutions.org/event/in-person-training-wastewater-pumps-controls-and-wastewater-safety-me-06-10-2025/
LOCATION:Saco River Drinking Water Resource Center\, 16 Waterworks Drive\, Biddeford\, ME\, 04005\, United States
CATEGORIES:Community & Environmental,Events
ATTACH;FMTTYPE=image/png:https://www.rcapsolutions.org/wp-content/uploads/Upcoming-Workshop-Graphic-Background.png
END:VEVENT
BEGIN:VEVENT
DTSTART;TZID=America/New_York:20241205T083000
DTEND;TZID=America/New_York:20241205T133000
DTSTAMP:20260425T182933
CREATED:20241017T181824Z
LAST-MODIFIED:20241017T181824Z
UID:10001388-1733387400-1733405400@www.rcapsolutions.org
SUMMARY:💧 Rate Setting for Capital Improvements – In-Person (Biddeford\, ME)
DESCRIPTION:REGISTER HERE\n \nRate Setting for Capital Improvements is a training that has been designed to provide systems of all sizes with an understanding of the importance of rate setting to fund capital improvements. The training will include a description of rate structures through asset management (GIS Mapping\, Capital Improvement Planning\, Inventory Controls for Asset Management\, etc.) as well as billing cycles and finances\, budgets\, reserve accounts\, and financial monitoring. The Public Utilities Commission will also be presenting during the training. The program will also look at key management areas and maintaining an active Board. Board members\, operators\, managers\, accounting personnel and support staff are encouraged to join.
URL:https://www.rcapsolutions.org/event/rate-setting-for-capital-improvements-in-person-biddeford-me/
LOCATION:Saco River Drinking Water Resource Center\, 16 Waterworks Drive\, Biddeford\, ME\, 04005\, United States
CATEGORIES:Community & Environmental,Events
ATTACH;FMTTYPE=image/png:https://www.rcapsolutions.org/wp-content/uploads/Upcoming-Workshop-Graphic-Background.png
END:VEVENT
BEGIN:VEVENT
DTSTART;TZID=America/New_York:20240516T083000
DTEND;TZID=America/New_York:20240516T140000
DTSTAMP:20260425T182933
CREATED:20240403T213154Z
LAST-MODIFIED:20240505T200423Z
UID:10001339-1715848200-1715868000@www.rcapsolutions.org
SUMMARY:💧 Conducting a Lead Service Line Inventory & Lead and Copper Regulations – In-Person (Biddeford\, ME)
DESCRIPTION:REGISTER HERE\n\nThis training will be in-person at the Saco River Drinking Water Resource Center. At this training we will provide an overview of the of Lead and Copper Regulations. How to Build your Lead Service line Inventory for your service lines. How to properly fill out the correct forms for submission to the Drinking Water Program. Followed by the latest EPA updates to the regulations pertaining to Lead service line and Lead and Copper regulations.
URL:https://www.rcapsolutions.org/event/conducting-a-lead-service-line-inventory-lead-and-copper-regulations-in-person-biddeford-me/
LOCATION:Saco River Drinking Water Resource Center\, 16 Waterworks Drive\, Biddeford\, ME\, 04005\, United States
CATEGORIES:Community & Environmental,Events
ATTACH;FMTTYPE=image/png:https://www.rcapsolutions.org/wp-content/uploads/Upcoming-Workshop-Graphic-Background.png
END:VEVENT
BEGIN:VEVENT
DTSTART;TZID=America/New_York:20231114T093000
DTEND;TZID=America/New_York:20231114T140000
DTSTAMP:20260425T182933
CREATED:20231011T175931Z
LAST-MODIFIED:20231011T175931Z
UID:10000841-1699954200-1699970400@www.rcapsolutions.org
SUMMARY:💧 Lead & Copper Rule Changes and Conducting a LSL Inventory – In-Person (Biddeford\, ME)
DESCRIPTION: \nThis workshop contains a review of the lead and copper rule. Trainers will provide a brief history of the regulations throughout the years and the significant differences in the action and trigger levels and review monitoring and treatment requirements. This class will comprehensively explain the Lead Service Line inventory requirements and how to conduct the inventory.
URL:https://www.rcapsolutions.org/event/lead-copper-rule-changes-and-conducting-a-lsl-inventory-in-person-biddeford-me/
LOCATION:Saco River Drinking Water Resource Center\, 16 Waterworks Drive\, Biddeford\, ME\, 04005\, United States
CATEGORIES:Community & Environmental,Events
ATTACH;FMTTYPE=image/png:https://www.rcapsolutions.org/wp-content/uploads/Upcoming-Workshop-Graphic-Background.png
END:VEVENT
END:VCALENDAR