BEGIN:VCALENDAR
VERSION:2.0
PRODID:-//RCAP Solutions - ECPv6.15.20//NONSGML v1.0//EN
CALSCALE:GREGORIAN
METHOD:PUBLISH
X-ORIGINAL-URL:https://www.rcapsolutions.org
X-WR-CALDESC:Events for RCAP Solutions
REFRESH-INTERVAL;VALUE=DURATION:PT1H
X-Robots-Tag:noindex
X-PUBLISHED-TTL:PT1H
BEGIN:VTIMEZONE
TZID:America/New_York
BEGIN:DAYLIGHT
TZOFFSETFROM:-0500
TZOFFSETTO:-0400
TZNAME:EDT
DTSTART:20250309T070000
END:DAYLIGHT
BEGIN:STANDARD
TZOFFSETFROM:-0400
TZOFFSETTO:-0500
TZNAME:EST
DTSTART:20251102T060000
END:STANDARD
BEGIN:DAYLIGHT
TZOFFSETFROM:-0500
TZOFFSETTO:-0400
TZNAME:EDT
DTSTART:20260308T070000
END:DAYLIGHT
BEGIN:STANDARD
TZOFFSETFROM:-0400
TZOFFSETTO:-0500
TZNAME:EST
DTSTART:20261101T060000
END:STANDARD
BEGIN:DAYLIGHT
TZOFFSETFROM:-0500
TZOFFSETTO:-0400
TZNAME:EDT
DTSTART:20270314T070000
END:DAYLIGHT
BEGIN:STANDARD
TZOFFSETFROM:-0400
TZOFFSETTO:-0500
TZNAME:EST
DTSTART:20271107T060000
END:STANDARD
END:VTIMEZONE
BEGIN:VEVENT
DTSTART;TZID=America/New_York:20260501T090000
DTEND;TZID=America/New_York:20260501T123000
DTSTAMP:20260421T102819
CREATED:20260324T123346Z
LAST-MODIFIED:20260324T123346Z
UID:10001551-1777626000-1777638600@www.rcapsolutions.org
SUMMARY:💧 Online Workshop: Rate Setting for Sustainable Utility Operations (VT) – 05/01/2026
DESCRIPTION:REGISTER HERE\n \nRate Setting for Sustainable Utility Operations is a training program designed to help systems understand the importance of setting appropriate rates and developing accurate rate structures to deliver sustainable services. The training includes an overview of general utility operations\, asset management\, and capital improvement costs\, as well as the steps needed to develop a rate structure that secures resources for long‑term operation and maintenance. Key steps include collecting data from actual financials\, usage\, and billing to estimate reserve accounts\, base rates\, flow rates\, and loading. Board members\, operators\, managers\, accounting personnel\, and support staff are encouraged to attend.
URL:https://www.rcapsolutions.org/event/online-workshop-rate-setting-for-sustainable-utility-operations-vt-05-01-2026/
LOCATION:Online
CATEGORIES:Community & Environmental,Events
ATTACH;FMTTYPE=image/png:https://www.rcapsolutions.org/wp-content/uploads/Upcoming-Workshop-Graphic-Background.png
END:VEVENT
BEGIN:VEVENT
DTSTART;TZID=America/New_York:20260505T090000
DTEND;TZID=America/New_York:20260505T110000
DTSTAMP:20260421T102819
CREATED:20260409T150226Z
LAST-MODIFIED:20260409T150226Z
UID:10001560-1777971600-1777978800@www.rcapsolutions.org
SUMMARY:💧 Online Workshop: Basic Math for Operators (NJ) – May 2026
DESCRIPTION:REGISTER HERE\n \nMath is an integral part of drinking water and wastewater system operations and is often one of the hardest topics to master. This training event will review basic math concepts and methods for solving problems\, and will provide attendees with practice applying the concepts to solve example problems.
URL:https://www.rcapsolutions.org/event/online-workshop-basic-math-for-operators-nj-may-2026/2026-05-05/
LOCATION:Online
CATEGORIES:Community & Environmental
ATTACH;FMTTYPE=image/png:https://www.rcapsolutions.org/wp-content/uploads/Upcoming-Workshop-Graphic-Background.png
END:VEVENT
BEGIN:VEVENT
DTSTART;TZID=America/New_York:20260505T090000
DTEND;TZID=America/New_York:20260505T120000
DTSTAMP:20260421T102819
CREATED:20260414T171025Z
LAST-MODIFIED:20260414T171100Z
UID:10001563-1777971600-1777982400@www.rcapsolutions.org
SUMMARY:💧 Online Workshop: Hydrant Best Practices (MA/CT/RI) – 05/05/2026
DESCRIPTION:REGISTER HERE\n \nHydrants are an important feature of a water system’s fire protection\, maintenance\, and asset management plan. Utilizing best practices for hydrants\, this training reviews hydrant basics\, firefighting applications\, flushing\, identification\, as well as GIS mapping and data tracking. How do you assess hydrant condition and age? This training draws from experience completing many drinking water asset management projects\, working with firefighters\, and planning asset replacements.
URL:https://www.rcapsolutions.org/event/online-workshop-hydrant-best-practices-ma-ct-ri-05-05-2026/
LOCATION:Online
CATEGORIES:Community & Environmental,Events
ATTACH;FMTTYPE=image/png:https://www.rcapsolutions.org/wp-content/uploads/Upcoming-Workshop-Graphic-Background.png
END:VEVENT
BEGIN:VEVENT
DTSTART;TZID=America/New_York:20260505T170000
DTEND;TZID=America/New_York:20260505T190000
DTSTAMP:20260421T102819
CREATED:20260407T172502Z
LAST-MODIFIED:20260407T173008Z
UID:10001555-1778000400-1778007600@www.rcapsolutions.org
SUMMARY:💧 Online Workshop: Understanding Septic Systems – From Basics to Best Practices (ME/VT/NH | 05/05/2026)
DESCRIPTION:REGISTER HERE\n \nLearn the basics of how decentralized wastewater systems (septic systems) work and what you can do to keep yours running safely and efficiently. This no-cost\, two‑hour training walks homeowners through system components\, everyday maintenance tips\, common myths\, what to do in an emergency\, and when advanced treatment technologies may be needed. Whether you’re new to septic ownership or just want a refresher\, this session will help you protect your home\, your wallet\, and your local environment.
URL:https://www.rcapsolutions.org/event/online-workshop-understanding-septic-systems-from-basics-to-best-practices-me-vt-nh-05-05-2026/
LOCATION:Online
CATEGORIES:Community & Environmental,Events
ATTACH;FMTTYPE=image/png:https://www.rcapsolutions.org/wp-content/uploads/Upcoming-Workshop-Graphic-Background.png
END:VEVENT
BEGIN:VEVENT
DTSTART;TZID=America/New_York:20260506T090000
DTEND;TZID=America/New_York:20260506T110000
DTSTAMP:20260421T102819
CREATED:20260409T150226Z
LAST-MODIFIED:20260409T150226Z
UID:10001561-1778058000-1778065200@www.rcapsolutions.org
SUMMARY:💧 Online Workshop: Basic Math for Operators (NJ) – May 2026
DESCRIPTION:REGISTER HERE\n \nMath is an integral part of drinking water and wastewater system operations and is often one of the hardest topics to master. This training event will review basic math concepts and methods for solving problems\, and will provide attendees with practice applying the concepts to solve example problems.
URL:https://www.rcapsolutions.org/event/online-workshop-basic-math-for-operators-nj-may-2026/2026-05-06/
LOCATION:Online
CATEGORIES:Community & Environmental
ATTACH;FMTTYPE=image/png:https://www.rcapsolutions.org/wp-content/uploads/Upcoming-Workshop-Graphic-Background.png
END:VEVENT
BEGIN:VEVENT
DTSTART;TZID=America/New_York:20260506T090000
DTEND;TZID=America/New_York:20260506T120000
DTSTAMP:20260421T102819
CREATED:20260414T171314Z
LAST-MODIFIED:20260414T171314Z
UID:10001564-1778058000-1778068800@www.rcapsolutions.org
SUMMARY:💧 Online Workshop: Hydrant Best Practices (MA/CT/RI) – 05/06/2026
DESCRIPTION:REGISTER HERE\n \nHydrants are an important feature of a water system’s fire protection\, maintenance\, and asset management plan. Utilizing best practices for hydrants\, this training reviews hydrant basics\, firefighting applications\, flushing\, identification\, as well as GIS mapping and data tracking. How do you assess hydrant condition and age? This training draws from experience completing many drinking water asset management projects\, working with firefighters\, and planning asset replacements.
URL:https://www.rcapsolutions.org/event/online-workshop-hydrant-best-practices-ma-ct-ri-05-06-2026/
LOCATION:Online
CATEGORIES:Community & Environmental,Events
ATTACH;FMTTYPE=image/png:https://www.rcapsolutions.org/wp-content/uploads/Upcoming-Workshop-Graphic-Background.png
END:VEVENT
BEGIN:VEVENT
DTSTART;TZID=America/New_York:20260506T130000
DTEND;TZID=America/New_York:20260506T150000
DTSTAMP:20260421T102819
CREATED:20260407T172953Z
LAST-MODIFIED:20260407T172953Z
UID:10001556-1778072400-1778079600@www.rcapsolutions.org
SUMMARY:💧 Online Workshop: Understanding Septic Systems – From Basics to Best Practices (ME/VT/NH | 05/06/2026)
DESCRIPTION:REGISTER HERE\n \nLearn the basics of how decentralized wastewater systems (septic systems) work and what you can do to keep yours running safely and efficiently. This no-cost\, two‑hour training walks homeowners through system components\, everyday maintenance tips\, common myths\, what to do in an emergency\, and when advanced treatment technologies may be needed. Whether you’re new to septic ownership or just want a refresher\, this session will help you protect your home\, your wallet\, and your local environment.
URL:https://www.rcapsolutions.org/event/online-workshop-understanding-septic-systems-from-basics-to-best-practices-me-vt-nh-05-06-2026/
LOCATION:Online
CATEGORIES:Community & Environmental,Events
ATTACH;FMTTYPE=image/png:https://www.rcapsolutions.org/wp-content/uploads/Upcoming-Workshop-Graphic-Background.png
END:VEVENT
BEGIN:VEVENT
DTSTART;TZID=America/New_York:20260506T160000
DTEND;TZID=America/New_York:20260506T180000
DTSTAMP:20260421T102819
CREATED:20260407T173309Z
LAST-MODIFIED:20260407T173405Z
UID:10001557-1778083200-1778090400@www.rcapsolutions.org
SUMMARY:💧 Online Workshop: Understanding Septic Systems – From Basics to Best Practices (ME/VT/NH | May 6\, 2026)
DESCRIPTION:REGISTER HERE\n \nLearn the basics of how decentralized wastewater systems (septic systems) work and what you can do to keep yours running safely and efficiently. This no-cost\, two‑hour training walks homeowners through system components\, everyday maintenance tips\, common myths\, what to do in an emergency\, and when advanced treatment technologies may be needed. Whether you’re new to septic ownership or just want a refresher\, this session will help you protect your home\, your wallet\, and your local environment.
URL:https://www.rcapsolutions.org/event/online-workshop-understanding-septic-systems-from-basics-to-best-practices-me-vt-nh-may-6-2026/
LOCATION:Online
CATEGORIES:Community & Environmental,Events
ATTACH;FMTTYPE=image/png:https://www.rcapsolutions.org/wp-content/uploads/Upcoming-Workshop-Graphic-Background.png
END:VEVENT
BEGIN:VEVENT
DTSTART;TZID=America/New_York:20260507T090000
DTEND;TZID=America/New_York:20260507T120000
DTSTAMP:20260421T102819
CREATED:20260414T171530Z
LAST-MODIFIED:20260415T113623Z
UID:10001565-1778144400-1778155200@www.rcapsolutions.org
SUMMARY:💧 Online Workshop: Hydrant Best Practices (MA/CT/RI) – 05/07/2026
DESCRIPTION:REGISTER HERE\n \nHydrants are an important feature of a water system’s fire protection\, maintenance\, and asset management plan. Utilizing best practices for hydrants\, this training reviews hydrant basics\, firefighting applications\, flushing\, identification\, as well as GIS mapping and data tracking. How do you assess hydrant condition and age? This training draws from experience completing many drinking water asset management projects\, working with firefighters\, and planning asset replacements.
URL:https://www.rcapsolutions.org/event/online-workshop-hydrant-best-practices-ma-ct-ri-05-07-2026/
LOCATION:Online
CATEGORIES:Community & Environmental,Events
ATTACH;FMTTYPE=image/png:https://www.rcapsolutions.org/wp-content/uploads/Upcoming-Workshop-Graphic-Background.png
END:VEVENT
BEGIN:VEVENT
DTSTART;TZID=America/New_York:20260520T090000
DTEND;TZID=America/New_York:20260520T120000
DTSTAMP:20260421T102819
CREATED:20260414T142821Z
LAST-MODIFIED:20260414T142821Z
UID:10001562-1779267600-1779278400@www.rcapsolutions.org
SUMMARY:💧 Taller en Línea: Conceptos Básicos de la Desinfección y los Subpproductos de la Desinfección para Sistemas Comunitarios – 05/20/2026
DESCRIPTION:REGISTER HERE\n\nEn Puerto Rico solo el 69% de los sistemas de agua comunitarios aplican desinfección para su suplido de agua\, lo cual crea una necesidad de educación sobre este tema. El 55% de los sistemas no toma las muestras químicas\, para saber si su tratamiento está creando subproductos de la desinfección. En este taller se estarán cubriendo tópicos relacionados a los diferentes métodos de desinfección\, su efectividad\, los productos de la desinfección que se crean al entrar en contacto con la materia orgánica y aspectos regulatorios sobre la regla de la Desinfección y los Subproductos de la Desinfección (DBPR) por sus siglas en inglés. Este taller tiene como propósito capacitar a los administradores de los sistemas comunitarios para que podamos mejorar la calidad de agua y prevenir enfermedades dentro de sus comunidades.
URL:https://www.rcapsolutions.org/event/taller-en-linea-conceptos-basicos-de-la-desinfeccion-y-los-subpproductos-de-la-desinfeccion-para-sistemas-comunitarios-05-20-2026/
LOCATION:Online
CATEGORIES:Community & Environmental,Events
ATTACH;FMTTYPE=image/png:https://www.rcapsolutions.org/wp-content/uploads/Upcoming-Workshop-Graphic-Background.png
END:VEVENT
END:VCALENDAR