BEGIN:VCALENDAR
VERSION:2.0
PRODID:-//RCAP Solutions - ECPv6.15.20//NONSGML v1.0//EN
CALSCALE:GREGORIAN
METHOD:PUBLISH
X-WR-CALNAME:RCAP Solutions
X-ORIGINAL-URL:https://www.rcapsolutions.org
X-WR-CALDESC:Events for RCAP Solutions
REFRESH-INTERVAL;VALUE=DURATION:PT1H
X-Robots-Tag:noindex
X-PUBLISHED-TTL:PT1H
BEGIN:VTIMEZONE
TZID:America/New_York
BEGIN:DAYLIGHT
TZOFFSETFROM:-0500
TZOFFSETTO:-0400
TZNAME:EDT
DTSTART:20250309T070000
END:DAYLIGHT
BEGIN:STANDARD
TZOFFSETFROM:-0400
TZOFFSETTO:-0500
TZNAME:EST
DTSTART:20251102T060000
END:STANDARD
BEGIN:DAYLIGHT
TZOFFSETFROM:-0500
TZOFFSETTO:-0400
TZNAME:EDT
DTSTART:20260308T070000
END:DAYLIGHT
BEGIN:STANDARD
TZOFFSETFROM:-0400
TZOFFSETTO:-0500
TZNAME:EST
DTSTART:20261101T060000
END:STANDARD
BEGIN:DAYLIGHT
TZOFFSETFROM:-0500
TZOFFSETTO:-0400
TZNAME:EDT
DTSTART:20270314T070000
END:DAYLIGHT
BEGIN:STANDARD
TZOFFSETFROM:-0400
TZOFFSETTO:-0500
TZNAME:EST
DTSTART:20271107T060000
END:STANDARD
END:VTIMEZONE
BEGIN:VEVENT
DTSTART;TZID=America/New_York:20260115T081500
DTEND;TZID=America/New_York:20260115T130000
DTSTAMP:20260424T071256
CREATED:20251214T185040Z
LAST-MODIFIED:20251214T185040Z
UID:10001513-1768464900-1768482000@www.rcapsolutions.org
SUMMARY:💧 In-Person Training: Back to Basics – Coliform and Lead in Drinking Water (NY)
DESCRIPTION:REGISTER HERE\n \nRegulatory changes and uncertainties have been the focus of water systems in recent years\, but many core regulations remain intact. Presenters from NYSDOH and RCAP Solutions will review foundational drinking water regulations including the Revised Total Coliform Rule (RTCR) and the Lead and Copper Rule Revisions (LCRR) combined with hands-on practice in coliform sampling procedures and pipe material identification.
URL:https://www.rcapsolutions.org/event/in-person-training-back-to-basics-coliform-and-lead-in-drinking-water-ny/
LOCATION:Oswego County Health Department\, 70 Bunner Street\, Oswego\, NY\, 13126\, United States
CATEGORIES:Community & Environmental,Events
ATTACH;FMTTYPE=image/png:https://www.rcapsolutions.org/wp-content/uploads/Upcoming-Workshop-Graphic-Background.png
END:VEVENT
END:VCALENDAR